BEGIN:VCALENDAR
VERSION:2.0
PRODID:-//103.20.200.121//NONSGML kigkonsult.se iCalcreator 2.20//
CALSCALE:GREGORIAN
METHOD:PUBLISH
X-WR-TIMEZONE:Australia/Brisbane
BEGIN:VEVENT
UID:event37@Dairy Goat Society of Australia - Queensland Branch
DTSTAMP:20210227T214301Z
CATEGORIES:Shows
DESCRIPTION:Qld Kid and Goatling Show\nCategory: Shows\nLink: http://www.da
 irygoatsqld.org.au/index.php?option=com_jem&view=event&id=37:qld-kid-and-g
 oatling-show\n
DTSTART;TZID=Australia/Brisbane:20210321T090000
DTEND;TZID=Australia/Brisbane:20210321T160000
LOCATION:Beenleigh Showgrounds
SUMMARY:Qld Kid and Goatling Show
URL:http://www.dairygoatsqld.org.au/index.php?option=com_jem&view=event&id=
 37:qld-kid-and-goatling-show
END:VEVENT
END:VCALENDAR
